BEGIN:VCALENDAR
VERSION:2.0
PRODID:-//Twilight Fiber &amp; Yarn - ECPv6.15.20//NONSGML v1.0//EN
CALSCALE:GREGORIAN
METHOD:PUBLISH
X-WR-CALNAME:Twilight Fiber &amp; Yarn
X-ORIGINAL-URL:https://www.twilightfiber.com
X-WR-CALDESC:Events for Twilight Fiber &amp; Yarn
REFRESH-INTERVAL;VALUE=DURATION:PT1H
X-Robots-Tag:noindex
X-PUBLISHED-TTL:PT1H
BEGIN:VTIMEZONE
TZID:America/Los_Angeles
BEGIN:DAYLIGHT
TZOFFSETFROM:-0800
TZOFFSETTO:-0700
TZNAME:PDT
DTSTART:20240310T100000
END:DAYLIGHT
BEGIN:STANDARD
TZOFFSETFROM:-0700
TZOFFSETTO:-0800
TZNAME:PST
DTSTART:20241103T090000
END:STANDARD
BEGIN:DAYLIGHT
TZOFFSETFROM:-0800
TZOFFSETTO:-0700
TZNAME:PDT
DTSTART:20250309T100000
END:DAYLIGHT
BEGIN:STANDARD
TZOFFSETFROM:-0700
TZOFFSETTO:-0800
TZNAME:PST
DTSTART:20251102T090000
END:STANDARD
BEGIN:DAYLIGHT
TZOFFSETFROM:-0800
TZOFFSETTO:-0700
TZNAME:PDT
DTSTART:20260308T100000
END:DAYLIGHT
BEGIN:STANDARD
TZOFFSETFROM:-0700
TZOFFSETTO:-0800
TZNAME:PST
DTSTART:20261101T090000
END:STANDARD
BEGIN:DAYLIGHT
TZOFFSETFROM:-0800
TZOFFSETTO:-0700
TZNAME:PDT
DTSTART:20270314T100000
END:DAYLIGHT
BEGIN:STANDARD
TZOFFSETFROM:-0700
TZOFFSETTO:-0800
TZNAME:PST
DTSTART:20271107T090000
END:STANDARD
END:VTIMEZONE
BEGIN:VEVENT
DTSTART;TZID=America/Los_Angeles:20251229T110000
DTEND;TZID=America/Los_Angeles:20260103T170000
DTSTAMP:20260422T112126
CREATED:20251225T010406Z
LAST-MODIFIED:20251225T010406Z
UID:10000535-1767006000-1767459600@www.twilightfiber.com
SUMMARY:STORE CLOSED (Online Orders Only)
DESCRIPTION:We will be closed the week of December 29th\, and will reopen on January 6th\, 2026. \nOnline orders will still be processed as usual every day.
URL:https://www.twilightfiber.com/event/store-closed-online-orders-only/
LOCATION:Twilight Fiber & Yarn\, 469000 Highway 95\, Sagle\, ID\, 83860\, United States
CATEGORIES:Closed Notice
ATTACH;FMTTYPE=image/jpeg:https://www.twilightfiber.com/wp-content/uploads/SorryWeAreClosed.jpg
END:VEVENT
BEGIN:VEVENT
DTSTART;TZID=America/Los_Angeles:20260107T170000
DTEND;TZID=America/Los_Angeles:20260107T190000
DTSTAMP:20260422T112126
CREATED:20251225T005809Z
LAST-MODIFIED:20251225T005809Z
UID:10000276-1767805200-1767812400@www.twilightfiber.com
SUMMARY:Craft Therapy Night
DESCRIPTION:Unleash your creativity at Craft Therapy Night! Every Wednesday from 5 PM to 7 PM\, our store becomes a haven for crafters of all kinds. Whether you’re into knitting\, crocheting\, embroidery\, quilting\, sewing\, drawing\, or pretty much anything\, come mingle with fellow craft enthusiasts in a fun\, relaxed atmosphere. All skill levels are welcome—let’s get crafty together!
URL:https://www.twilightfiber.com/event/craft-therapy-night-3-2/2026-01-07/
LOCATION:Twilight Fiber & Yarn\, 469000 Highway 95\, Sagle\, ID\, 83860\, United States
CATEGORIES:Recurring Events
ATTACH;FMTTYPE=image/jpeg:https://www.twilightfiber.com/wp-content/uploads/CraftNight.jpeg
END:VEVENT
BEGIN:VEVENT
DTSTART;TZID=America/Los_Angeles:20260114T170000
DTEND;TZID=America/Los_Angeles:20260114T190000
DTSTAMP:20260422T112126
CREATED:20251225T005809Z
LAST-MODIFIED:20251225T005809Z
UID:10000277-1768410000-1768417200@www.twilightfiber.com
SUMMARY:Craft Therapy Night
DESCRIPTION:Unleash your creativity at Craft Therapy Night! Every Wednesday from 5 PM to 7 PM\, our store becomes a haven for crafters of all kinds. Whether you’re into knitting\, crocheting\, embroidery\, quilting\, sewing\, drawing\, or pretty much anything\, come mingle with fellow craft enthusiasts in a fun\, relaxed atmosphere. All skill levels are welcome—let’s get crafty together!
URL:https://www.twilightfiber.com/event/craft-therapy-night-3-2/2026-01-14/
LOCATION:Twilight Fiber & Yarn\, 469000 Highway 95\, Sagle\, ID\, 83860\, United States
CATEGORIES:Recurring Events
ATTACH;FMTTYPE=image/jpeg:https://www.twilightfiber.com/wp-content/uploads/CraftNight.jpeg
END:VEVENT
BEGIN:VEVENT
DTSTART;TZID=America/Los_Angeles:20260121T170000
DTEND;TZID=America/Los_Angeles:20260121T190000
DTSTAMP:20260422T112126
CREATED:20251225T005809Z
LAST-MODIFIED:20251225T005809Z
UID:10000278-1769014800-1769022000@www.twilightfiber.com
SUMMARY:Craft Therapy Night
DESCRIPTION:Unleash your creativity at Craft Therapy Night! Every Wednesday from 5 PM to 7 PM\, our store becomes a haven for crafters of all kinds. Whether you’re into knitting\, crocheting\, embroidery\, quilting\, sewing\, drawing\, or pretty much anything\, come mingle with fellow craft enthusiasts in a fun\, relaxed atmosphere. All skill levels are welcome—let’s get crafty together!
URL:https://www.twilightfiber.com/event/craft-therapy-night-3-2/2026-01-21/
LOCATION:Twilight Fiber & Yarn\, 469000 Highway 95\, Sagle\, ID\, 83860\, United States
CATEGORIES:Recurring Events
ATTACH;FMTTYPE=image/jpeg:https://www.twilightfiber.com/wp-content/uploads/CraftNight.jpeg
END:VEVENT
BEGIN:VEVENT
DTSTART;TZID=America/Los_Angeles:20260124T110000
DTEND;TZID=America/Los_Angeles:20260124T170000
DTSTAMP:20260422T112126
CREATED:20251111T204430Z
LAST-MODIFIED:20251111T204633Z
UID:10000269-1769252400-1769274000@www.twilightfiber.com
SUMMARY:TRUNK SHOW - Two Springs Fiber Arts
DESCRIPTION:Mark it in your calendars (January 24th) so you don’t miss this awesome event. Two Springs Fiber Arts will be having a TRUNK SHOW!\n\nShe will be showcasing her amazing all-natural indie dyed yarns and you don’t want to miss this! \n 
URL:https://www.twilightfiber.com/event/trunk-show-two-springs-fiber-arts/
LOCATION:Twilight Fiber & Yarn\, 469000 Highway 95\, Sagle\, ID\, 83860\, United States
CATEGORIES:Special Events,Trunk Show
ATTACH;FMTTYPE=image/png:https://www.twilightfiber.com/wp-content/uploads/Two-Springs-Fiber-Arts-Black-2-inch.png
END:VEVENT
BEGIN:VEVENT
DTSTART;TZID=America/Los_Angeles:20260128T170000
DTEND;TZID=America/Los_Angeles:20260128T190000
DTSTAMP:20260422T112126
CREATED:20251225T005809Z
LAST-MODIFIED:20251225T005809Z
UID:10000279-1769619600-1769626800@www.twilightfiber.com
SUMMARY:Craft Therapy Night
DESCRIPTION:Unleash your creativity at Craft Therapy Night! Every Wednesday from 5 PM to 7 PM\, our store becomes a haven for crafters of all kinds. Whether you’re into knitting\, crocheting\, embroidery\, quilting\, sewing\, drawing\, or pretty much anything\, come mingle with fellow craft enthusiasts in a fun\, relaxed atmosphere. All skill levels are welcome—let’s get crafty together!
URL:https://www.twilightfiber.com/event/craft-therapy-night-3-2/2026-01-28/
LOCATION:Twilight Fiber & Yarn\, 469000 Highway 95\, Sagle\, ID\, 83860\, United States
CATEGORIES:Recurring Events
ATTACH;FMTTYPE=image/jpeg:https://www.twilightfiber.com/wp-content/uploads/CraftNight.jpeg
END:VEVENT
END:VCALENDAR